BEGIN:VCALENDAR
VERSION:2.0
PRODID:-//Your Company//NONSGML Events//EN
BEGIN:VTIMEZONE
TZID:Europe/Berlin
X-LIC-LOCATION:Europe/Berlin
BEGIN:DAYLIGHT
TZOFFSETFROM:+0100
TZOFFSETTO:+0200
TZNAME:CEST
DTSTART:19700329T020000
RRULE:FREQ=YEARLY;BYDAY=-1SU;BYMONTH=3
END:DAYLIGHT
BEGIN:STANDARD
TZOFFSETFROM:+0200
TZOFFSETTO:+0100
TZNAME:CET
DTSTART:19701025T030000
RRULE:FREQ=YEARLY;BYDAY=-1SU;BYMONTH=10
END:STANDARD
END:VTIMEZONE
BEGIN:VEVENT
SUMMARY:Wildkräuterwanderung in Saarbrücken
DTSTART;TZID=Europe/Berlin:20260426T130000
DTEND;TZID=Europe/Berlin:20260426T150000
LOCATION:Eingang ehemaliges Messegelände / Impfzentrum\nAm Schanzenberg, Saarbrücke
DESCRIPTION:
END:VEVENT
BEGIN:VEVENT
SUMMARY:Fahrrad Workshop
DTSTART;TZID=Europe/Berlin:20260427T180000
DTEND;TZID=Europe/Berlin:20260427T200000
LOCATION:Grüner Raum\nCecilienstraße 11\n66111 Saarbrücke
DESCRIPTION:Google Maps: https://maps.app.goo.gl/1CnGF86Tk9nW7q6c6
END:VEVENT
BEGIN:VEVENT
SUMMARY:Treffen des Ortsverbands Dudweiler/Scheidt
DTSTART;TZID=Europe/Berlin:20260430T183000
DTEND;TZID=Europe/Berlin:20260430T203000
LOCATION:online\n
DESCRIPTION:
END:VEVENT
BEGIN:VEVENT
SUMMARY:Comic Workshop
DTSTART;TZID=Europe/Berlin:20260430T190000
DTEND;TZID=Europe/Berlin:20260430T210000
LOCATION:Grüner Raum\nCecilienstraße 11, 66111 Saarbrücke
DESCRIPTION:Google Maps: https://maps.app.goo.gl/dXAcNxrWN1GDkPKY9
END:VEVENT
BEGIN:VEVENT
SUMMARY:Grüner Treff
DTSTART;TZID=Europe/Berlin:20260504T190000
DTEND;TZID=Europe/Berlin:20260504T210000
LOCATION:Grüner Raum\nCecilienstraße 11, Saarbrücke
DESCRIPTION:Google Maps: https://maps.app.goo.gl/LBZfTjqUEywqqCCC6
END:VEVENT
BEGIN:VEVENT
SUMMARY:Mitgliederversammlung OV-Mitte
DTSTART;TZID=Europe/Berlin:20260507T180000
DTEND;TZID=Europe/Berlin:20260507T200000
LOCATION:Landesgeschäftsstelle\nBahnhofstraße 36, 66111 Saarbrücke
DESCRIPTION:Google Maps: https://maps.app.goo.gl/AGGF9nqfZmTSC7mH9
END:VEVENT
BEGIN:VEVENT
SUMMARY:Besuch in der Sternwarte Petersberg
DTSTART;TZID=Europe/Berlin:20260508T200000
DTEND;TZID=Europe/Berlin:20260508T220000
LOCATION:Sternwarte Petersberg\nPetersbergstraße, 66620 Nonnweiler
DESCRIPTION:
END:VEVENT
BEGIN:VEVENT
SUMMARY:Skat Treff
DTSTART;TZID=Europe/Berlin:20260512T190000
DTEND;TZID=Europe/Berlin:20260512T210000
LOCATION:Grüner Raum\nCecilienstraße 11\n66111 Saarbrücke
DESCRIPTION:
END:VEVENT
BEGIN:VEVENT
SUMMARY:Treffen des Ortsverbands Dudweiler/Scheidt
DTSTART;TZID=Europe/Berlin:20260521T183000
DTEND;TZID=Europe/Berlin:20260521T203000
LOCATION:in Präsenz\n
DESCRIPTION:
END:VEVENT
BEGIN:VEVENT
SUMMARY:Wahlversammlung für den Regionalverband
DTSTART;TZID=Europe/Berlin:20260602T173000
DTEND;TZID=Europe/Berlin:20260602T193000
LOCATION:Landesgeschäftsstelle\n
DESCRIPTION:
END:VEVENT
BEGIN:VEVENT
SUMMARY:Treffen des Ortsverbands Dudweiler/Scheidt
DTSTART;TZID=Europe/Berlin:20260611T183000
DTEND;TZID=Europe/Berlin:20260611T203000
LOCATION:digital\n
DESCRIPTION:
END:VEVENT
BEGIN:VEVENT
SUMMARY:Treffen des Ortsverbands Dudweiler/Scheidt
DTSTART;TZID=Europe/Berlin:20260625T183000
DTEND;TZID=Europe/Berlin:20260625T203000
LOCATION:in Präsenz\n
DESCRIPTION:
END:VEVENT
BEGIN:VEVENT
SUMMARY:Treffen des Ortsverbands Dudweiler/Scheidt
DTSTART;TZID=Europe/Berlin:20260709T183000
DTEND;TZID=Europe/Berlin:20260709T203000
LOCATION:digital\n
DESCRIPTION:
END:VEVENT
END:VCALENDAR